
BEGIN:VCALENDAR
VERSION:2.0
PRODID:-//The Department of Transport - ECPv6.0.11//NONSGML v1.0//EN
CALSCALE:GREGORIAN
METHOD:PUBLISH
X-WR-CALNAME:The Department of Transport
X-ORIGINAL-URL:https://dotevents.transport.gov.za/Test.TransportWeb
X-WR-CALDESC:Events for The Department of Transport
REFRESH-INTERVAL;VALUE=DURATION:PT1H
X-Robots-Tag:noindex
X-PUBLISHED-TTL:PT1H
BEGIN:VTIMEZONE
TZID:Africa/Johannesburg
BEGIN:STANDARD
TZOFFSETFROM:+0200
TZOFFSETTO:+0200
TZNAME:SAST
DTSTART:20230101T000000
END:STANDARD
END:VTIMEZONE
BEGIN:VEVENT
DTSTART;TZID=Africa/Johannesburg:20230420T080000
DTEND;TZID=Africa/Johannesburg:20230420T170000
DTSTAMP:20260423T084622
CREATED:20230417T131621Z
LAST-MODIFIED:20230417T131621Z
UID:725-1681977600-1682010000@dotevents.transport.gov.za
SUMMARY:Demonstration of progress made on Moloto corridor development.
DESCRIPTION:Demonstration of progress made on Moloto corridor development.
URL:https://dotevents.transport.gov.za/Test.TransportWeb/event/demonstration-of-progress-made-on-moloto-corridor-development/
LOCATION:Gauteng
END:VEVENT
BEGIN:VEVENT
DTSTART;VALUE=DATE:20230405
DTEND;VALUE=DATE:20230406
DTSTAMP:20260423T084622
CREATED:20230418T091418Z
LAST-MODIFIED:20230418T112748Z
UID:732-1680652800-1680739199@dotevents.transport.gov.za
SUMMARY:Easter Awareness Campaign at Park Station.
DESCRIPTION:Easter Awareness Campaign at Park Station.
URL:https://dotevents.transport.gov.za/Test.TransportWeb/event/easter-awareness-campaign-at-park-station/
LOCATION:Park Station.\, Park Station\, 96 Rissik St\, Johannesburg\, Gauteng\, South Africa
ATTACH;FMTTYPE=image/png:https://dotevents.transport.gov.za/Test.TransportWeb/wp-content/uploads/2023/03/rail-1.png
END:VEVENT
END:VCALENDAR